BEGIN:VCALENDAR
VERSION:2.0
PRODID:-//OVC//NONSGML v1.0//EN
X-WR-CALNAME:OVC
X-ORIGINAL-URL:https://ovcastricum.nl
X-WR-CALDESC:Agenda from OVC
CALSCALE:GREGORIAN
METHOD:PUBLISH
TZID:Europe/Amsterdam
BEGIN:VTIMEZONE
TZID:Europe/Amsterdam
X-LIC-LOCATION:Europe/Amsterdam
BEGIN:DAYLIGHT
TZOFFSETFROM:+0100
TZOFFSETTO:+0200
TZNAME:CEST
DTSTART:19700329T020000
RRULE:FREQ=YEARLY;BYMONTH=3;BYDAY=-1SU
END:DAYLIGHT
BEGIN:STANDARD
TZOFFSETFROM:+0200
TZOFFSETTO:+0100
TZNAME:CET
DTSTART:19701025T030000
RRULE:FREQ=YEARLY;BYMONTH=10;BYDAY=-1SU
END:STANDARD
END:VTIMEZONE
BEGIN:VEVENT
UID:https://ovcastricum.nl/?post_type=agenda&#038;p=3183
DTSTAMP:20260422T170947
DTSTART;TZID=Europe/Amsterdam:20260612T000000
DTEND;TZID=Europe/Amsterdam:20260612T220000
SUMMARY:BBQ
 
DESCRIPTION:Meer informatie volgt.
 
LOCATION:
URL;VALUE=URI:https://ovcastricum.nl/?p=3183
 
END:VEVENT

END:VCALENDAR
